Workbook

Sheet 見積費用_総括表
A1: 次期内部情報系システム RFI 見積費用総括表
H3: 事業者名:
A4: ・本表は、次期内部情報系システムの調達方針及び概算事業費を検討するための参考見積を整理するものです。
A5: ・システム利用期間は令和10年10月1日から令和15年9月30日までの60か月間です。各費用の計上を予定する年度に金額を記載してください。
A6: ・令和9年度以前に支払いが必要な費用がある場合はその内容を、「主な費用算定条件」に記載してください。また、算定条件については、「備考」又は「主な費用算定条件」に記載してください。費用項目の追加が必要な場合は、適宜追加するとともに、計算式も修正してください。
A7: No. | B7: 費用区分 | C7: 内容 | D7: 令和10年度 | E7: 令和11年度 | F7: 令和12年度 | G7: 令和13年度 | H7: 令和14年度 | I7: 令和15年度 | J7: 期間中の計 | K7: 備考
A8: Ⅰ システム導入・構築に係る費用（税抜/単位：円）
A9: 1 | B9: 要件定義費用 | C9: システムの機能要件・非機能要件の定義等にかかる費用 | D9: =見積費用_財務会計!D9+見積費用_人事給与!D9+見積費用_庶務事務!D9 -> 0
A10: 2 | B10: 設計費用 | C10: システムの設計・設定内容の検討等にかかる費用 | D10: =見積費用_財務会計!D10+見積費用_人事給与!D10+見積費用_庶務事務!D10 -> 0
A11: 3 | B11: 製造費用 | C11: システムの構築・設定・必要な改修等にかかる費用 | D11: =見積費用_財務会計!D11+見積費用_人事給与!D11+見積費用_庶務事務!D11 -> 0
A12: 4 | B12: 試験費用 | C12: システムの動作確認、連携試験等にかかる費用 | D12: =見積費用_財務会計!D12+見積費用_人事給与!D12+見積費用_庶務事務!D12 -> 0
A13: 5 | B13: データ移行費用 | C13: 現行システムから提供されるデータの確認、変換、取込等にかかる費用 | D13: =見積費用_財務会計!D13+見積費用_人事給与!D13+見積費用_庶務事務!D13 -> 0
A14: 6 | B14: 外部システム連携費用 | C14: 既存の外部システムとの連携機能の構築等にかかる費用 | D14: =見積費用_財務会計!D14+見積費用_人事給与!D14+見積費用_庶務事務!D14 -> 0
A15: 7 | B15: 研修・本稼働支援 | C15: 操作研修、運用準備、本番切替支援等にかかる費用 | D15: =見積費用_財務会計!D15+見積費用_人事給与!D15+見積費用_庶務事務!D15 -> 0
A16: 8 | B16: その他 | C16: 上記以外の導入・構築にかかる費用 | D16: =見積費用_財務会計!D16+見積費用_人事給与!D16+見積費用_庶務事務!D16 -> 0
A17: システム導入・構築費用 小計 | D17: =SUM(D9:D16) -> 0 | J17: =SUM(D17:I17) -> 0
A18: Ⅱ システム運用・保守に係る費用（税抜/単位：円）
A19: 1 | B19: 機器利用 | C19: サーバー、ネットワーク機器、クラウド基盤等の利用にかかる費用 | D19: =見積費用_財務会計!D19+見積費用_人事給与!D19+見積費用_庶務事務!D19 -> 0 | E19: =見積費用_財務会計!E19+見積費用_人事給与!E19+見積費用_庶務事務!E19 -> 0 | F19: =見積費用_財務会計!F19+見積費用_人事給与!F19+見積費用_庶務事務!F19 -> 0 | G19: =見積費用_財務会計!G19+見積費用_人事給与!G19+見積費用_庶務事務!G19 -> 0 | H19: =見積費用_財務会計!H19+見積費用_人事給与!H19+見積費用_庶務事務!H19 -> 0 | I19: =見積費用_財務会計!I19+見積費用_人事給与!I19+見積費用_庶務事務!I19 -> 0
A20: 2 | B20: システム運用 | C20: ライセンス又はサービス利用にかかる費用 | D20: =見積費用_財務会計!D20+見積費用_人事給与!D20+見積費用_庶務事務!D20 -> 0 | E20: =見積費用_財務会計!E20+見積費用_人事給与!E20+見積費用_庶務事務!E20 -> 0 | F20: =見積費用_財務会計!F20+見積費用_人事給与!F20+見積費用_庶務事務!F20 -> 0 | G20: =見積費用_財務会計!G20+見積費用_人事給与!G20+見積費用_庶務事務!G20 -> 0 | H20: =見積費用_財務会計!H20+見積費用_人事給与!H20+見積費用_庶務事務!H20 -> 0 | I20: =見積費用_財務会計!I20+見積費用_人事給与!I20+見積費用_庶務事務!I20 -> 0
A21: 3 | B21: システム保守 | C21: システムの保守にかかる費用 | D21: =見積費用_財務会計!D21+見積費用_人事給与!D21+見積費用_庶務事務!D21 -> 0 | E21: =見積費用_財務会計!E21+見積費用_人事給与!E21+見積費用_庶務事務!E21 -> 0 | F21: =見積費用_財務会計!F21+見積費用_人事給与!F21+見積費用_庶務事務!F21 -> 0 | G21: =見積費用_財務会計!G21+見積費用_人事給与!G21+見積費用_庶務事務!G21 -> 0 | H21: =見積費用_財務会計!H21+見積費用_人事給与!H21+見積費用_庶務事務!H21 -> 0 | I21: =見積費用_財務会計!I21+見積費用_人事給与!I21+見積費用_庶務事務!I21 -> 0
A22: 4 | B22: その他 | C22: 上記以外の運用・保守にかかる費用 | D22: =見積費用_財務会計!D22+見積費用_人事給与!D22+見積費用_庶務事務!D22 -> 0 | E22: =見積費用_財務会計!E22+見積費用_人事給与!E22+見積費用_庶務事務!E22 -> 0 | F22: =見積費用_財務会計!F22+見積費用_人事給与!F22+見積費用_庶務事務!F22 -> 0 | G22: =見積費用_財務会計!G22+見積費用_人事給与!G22+見積費用_庶務事務!G22 -> 0 | H22: =見積費用_財務会計!H22+見積費用_人事給与!H22+見積費用_庶務事務!H22 -> 0 | I22: =見積費用_財務会計!I22+見積費用_人事給与!I22+見積費用_庶務事務!I22 -> 0
A23: システム運用・保守費用 小計 | D23: =SUM(D19:D22) -> 0 | E23: =SUM(E19:E22) -> 0 | F23: =SUM(F19:F22) -> 0 | G23: =SUM(G19:G22) -> 0 | H23: =SUM(H19:H22) -> 0 | I23: =SUM(I19:I22) -> 0 | J23: =SUM(D23:I23) -> 0
A24: Ⅲ その他費用（税抜/単位：円）
A25: 1 | B25: （自由に追加してください）
A26: その他費用 小計 | D26: =SUM(D25) -> 0 | E26: =SUM(E25) -> 0 | F26: =SUM(F25) -> 0 | G26: =SUM(G25) -> 0 | H26: =SUM(H25) -> 0 | I26: =SUM(I25) -> 0 | J26: =SUM(D26:I26) -> 0
A27: 合計（税抜） | D27: =SUM(D17,D23,D26) -> 0 | E27: =SUM(E17,E23,E26) -> 0 | F27: =SUM(F17,F23,F26) -> 0 | G27: =SUM(G17,G23,G26) -> 0 | H27: =SUM(H17,H23,H26) -> 0 | I27: =SUM(I17,I23,I26) -> 0 | J27: =SUM(D27:I27) -> 0
A28: 合計（税込） | D28: =D27*1.1 -> 0 | E28: =E27*1.1 -> 0 | F28: =F27*1.1 -> 0 | G28: =G27*1.1 -> 0 | H28: =H27*1.1 -> 0 | I28: =I27*1.1 -> 0 | J28: =SUM(D28:I28) -> 0
A29: Ⅳ 主な費用算定条件

Sheet 見積費用_財務会計
A1: 次期内部情報系システム RFI 見積費用（財務会計システム）
H3: 事業者名: | I3: =見積費用_総括表!I3 -> 0
A4: ・本表は、次期内部情報系システムの調達方針及び概算事業費を検討するための参考見積を整理するものです。
A5: ・システム利用期間は令和10年10月1日から令和15年9月30日までの60か月間です。各費用の計上を予定する年度に金額を記載してください。
A6: ・令和9年度以前に支払いが必要な費用がある場合はその内容を、「主な費用算定条件」に記載してください。また、算定条件については、「備考」又は「主な費用算定条件」に記載してください。費用項目の追加が必要な場合は、適宜追加するとともに、計算式も修正してください。
A7: No. | B7: 費用区分 | C7: 内容 | D7: 令和10年度 | E7: 令和11年度 | F7: 令和12年度 | G7: 令和13年度 | H7: 令和14年度 | I7: 令和15年度 | J7: 期間中の計 | K7: 備考
A8: Ⅰ システム導入・構築に係る費用（税抜/単位：円）
A9: 1 | B9: 要件定義費用 | C9: システムの機能要件・非機能要件の定義等にかかる費用
A10: 2 | B10: 設計費用 | C10: システムの設計・設定内容の検討等にかかる費用
A11: 3 | B11: 製造費用 | C11: システムの構築・設定・必要な改修等にかかる費用
A12: 4 | B12: 試験費用 | C12: システムの動作確認、連携試験等にかかる費用
A13: 5 | B13: データ移行費用 | C13: 現行システムから提供されるデータの確認、変換、取込等にかかる費用
A14: 6 | B14: 外部システム連携費用 | C14: 既存の外部システムとの連携機能の構築等にかかる費用
A15: 7 | B15: 研修・本稼働支援 | C15: 操作研修、運用準備、本番切替支援等にかかる費用
A16: 8 | B16: その他 | C16: 上記以外の導入・構築にかかる費用
A17: システム導入・構築費用 小計 | D17: =SUM(D9:D16) -> 0 | J17: =SUM(D17:I17) -> 0
A18: Ⅱ システム運用・保守に係る費用（税抜/単位：円）
A19: 1 | B19: 機器利用 | C19: サーバー、ネットワーク機器、クラウド基盤等の利用にかかる費用
A20: 2 | B20: システム運用 | C20: ライセンス又はサービス利用にかかる費用
A21: 3 | B21: システム保守 | C21: システムの保守にかかる費用
A22: 4 | B22: その他 | C22: 上記以外の運用・保守にかかる費用
A23: システム運用・保守費用 小計 | D23: =SUM(D19:D22) -> 0 | E23: =SUM(E19:E22) -> 0 | F23: =SUM(F19:F22) -> 0 | G23: =SUM(G19:G22) -> 0 | H23: =SUM(H19:H22) -> 0 | I23: =SUM(I19:I22) -> 0 | J23: =SUM(D23:I23) -> 0
A24: Ⅲ その他費用（税抜/単位：円）
A25: 1 | B25: （自由に追加してください）
A26: その他費用 小計 | D26: =SUM(D25) -> 0 | E26: =SUM(E25) -> 0 | F26: =SUM(F25) -> 0 | G26: =SUM(G25) -> 0 | H26: =SUM(H25) -> 0 | I26: =SUM(I25) -> 0 | J26: =SUM(D26:I26) -> 0
A27: 合計（税抜） | D27: =SUM(D17,D23,D26) -> 0 | E27: =SUM(E17,E23,E26) -> 0 | F27: =SUM(F17,F23,F26) -> 0 | G27: =SUM(G17,G23,G26) -> 0 | H27: =SUM(H17,H23,H26) -> 0 | I27: =SUM(I17,I23,I26) -> 0 | J27: =SUM(D27:I27) -> 0
A28: 合計（税込） | D28: =D27*1.1 -> 0 | E28: =E27*1.1 -> 0 | F28: =F27*1.1 -> 0 | G28: =G27*1.1 -> 0 | H28: =H27*1.1 -> 0 | I28: =I27*1.1 -> 0 | J28: =SUM(D28:I28) -> 0
A29: Ⅳ 主な費用算定条件

Sheet 見積費用_人事給与
A1: 次期内部情報系システム RFI 見積費用（人事給与システム）
H3: 事業者名: | I3: =見積費用_総括表!I3 -> 0
A4: ・本表は、次期内部情報系システムの調達方針及び概算事業費を検討するための参考見積を整理するものです。
A5: ・システム利用期間は令和10年10月1日から令和15年9月30日までの60か月間です。各費用の計上を予定する年度に金額を記載してください。
A6: ・令和9年度以前に支払いが必要な費用がある場合はその内容を、「主な費用算定条件」に記載してください。また、算定条件については、「備考」又は「主な費用算定条件」に記載してください。費用項目の追加が必要な場合は、適宜追加するとともに、計算式も修正してください。
A7: No. | B7: 費用区分 | C7: 内容 | D7: 令和10年度 | E7: 令和11年度 | F7: 令和12年度 | G7: 令和13年度 | H7: 令和14年度 | I7: 令和15年度 | J7: 期間中の計 | K7: 備考
A8: Ⅰ システム導入・構築に係る費用（税抜/単位：円）
A9: 1 | B9: 要件定義費用 | C9: システムの機能要件・非機能要件の定義等にかかる費用
A10: 2 | B10: 設計費用 | C10: システムの設計・設定内容の検討等にかかる費用
A11: 3 | B11: 製造費用 | C11: システムの構築・設定・必要な改修等にかかる費用
A12: 4 | B12: 試験費用 | C12: システムの動作確認、連携試験等にかかる費用
A13: 5 | B13: データ移行費用 | C13: 現行システムから提供されるデータの確認、変換、取込等にかかる費用
A14: 6 | B14: 外部システム連携費用 | C14: 既存の外部システムとの連携機能の構築等にかかる費用
A15: 7 | B15: 研修・本稼働支援 | C15: 操作研修、運用準備、本番切替支援等にかかる費用
A16: 8 | B16: その他 | C16: 上記以外の導入・構築にかかる費用
A17: システム導入・構築費用 小計 | D17: =SUM(D9:D16) -> 0 | J17: =SUM(D17:I17) -> 0
A18: Ⅱ システム運用・保守に係る費用（税抜/単位：円）
A19: 1 | B19: 機器利用 | C19: サーバー、ネットワーク機器、クラウド基盤等の利用にかかる費用
A20: 2 | B20: システム運用 | C20: ライセンス又はサービス利用にかかる費用
A21: 3 | B21: システム保守 | C21: システムの保守にかかる費用
A22: 4 | B22: その他 | C22: 上記以外の運用・保守にかかる費用
A23: システム運用・保守費用 小計 | D23: =SUM(D19:D22) -> 0 | E23: =SUM(E19:E22) -> 0 | F23: =SUM(F19:F22) -> 0 | G23: =SUM(G19:G22) -> 0 | H23: =SUM(H19:H22) -> 0 | I23: =SUM(I19:I22) -> 0 | J23: =SUM(D23:I23) -> 0
A24: Ⅲ その他費用（税抜/単位：円）
A25: 1 | B25: （自由に追加してください）
A26: その他費用 小計 | D26: =SUM(D25) -> 0 | E26: =SUM(E25) -> 0 | F26: =SUM(F25) -> 0 | G26: =SUM(G25) -> 0 | H26: =SUM(H25) -> 0 | I26: =SUM(I25) -> 0 | J26: =SUM(D26:I26) -> 0
A27: 合計（税抜） | D27: =SUM(D17,D23,D26) -> 0 | E27: =SUM(E17,E23,E26) -> 0 | F27: =SUM(F17,F23,F26) -> 0 | G27: =SUM(G17,G23,G26) -> 0 | H27: =SUM(H17,H23,H26) -> 0 | I27: =SUM(I17,I23,I26) -> 0 | J27: =SUM(D27:I27) -> 0
A28: 合計（税込） | D28: =D27*1.1 -> 0 | E28: =E27*1.1 -> 0 | F28: =F27*1.1 -> 0 | G28: =G27*1.1 -> 0 | H28: =H27*1.1 -> 0 | I28: =I27*1.1 -> 0 | J28: =SUM(D28:I28) -> 0
A29: Ⅳ 主な費用算定条件

Sheet 見積費用_庶務事務
A1: 次期内部情報系システム RFI 見積費用（庶務事務システム）
H3: 事業者名: | I3: =見積費用_総括表!I3 -> 0
A4: ・本表は、次期内部情報系システムの調達方針及び概算事業費を検討するための参考見積を整理するものです。
A5: ・システム利用期間は令和10年10月1日から令和15年9月30日までの60か月間です。各費用の計上を予定する年度に金額を記載してください。
A6: ・令和9年度以前に支払いが必要な費用がある場合はその内容を、「主な費用算定条件」に記載してください。また、算定条件については、「備考」又は「主な費用算定条件」に記載してください。費用項目の追加が必要な場合は、適宜追加するとともに、計算式も修正してください。
A7: No. | B7: 費用区分 | C7: 内容 | D7: 令和10年度 | E7: 令和11年度 | F7: 令和12年度 | G7: 令和13年度 | H7: 令和14年度 | I7: 令和15年度 | J7: 期間中の計 | K7: 備考
A8: Ⅰ システム導入・構築に係る費用（税抜/単位：円）
A9: 1 | B9: 要件定義費用 | C9: システムの機能要件・非機能要件の定義等にかかる費用
A10: 2 | B10: 設計費用 | C10: システムの設計・設定内容の検討等にかかる費用
A11: 3 | B11: 製造費用 | C11: システムの構築・設定・必要な改修等にかかる費用
A12: 4 | B12: 試験費用 | C12: システムの動作確認、連携試験等にかかる費用
A13: 5 | B13: データ移行費用 | C13: 現行システムから提供されるデータの確認、変換、取込等にかかる費用
A14: 6 | B14: 外部システム連携費用 | C14: 既存の外部システムとの連携機能の構築等にかかる費用
A15: 7 | B15: 研修・本稼働支援 | C15: 操作研修、運用準備、本番切替支援等にかかる費用
A16: 8 | B16: その他 | C16: 上記以外の導入・構築にかかる費用
A17: システム導入・構築費用 小計 | D17: =SUM(D9:D16) -> 0 | J17: =SUM(D17:I17) -> 0
A18: Ⅱ システム運用・保守に係る費用（税抜/単位：円）
A19: 1 | B19: 機器利用 | C19: サーバー、ネットワーク機器、クラウド基盤等の利用にかかる費用
A20: 2 | B20: システム運用 | C20: ライセンス又はサービス利用にかかる費用
A21: 3 | B21: システム保守 | C21: システムの保守にかかる費用
A22: 4 | B22: その他 | C22: 上記以外の運用・保守にかかる費用
A23: システム運用・保守費用 小計 | D23: =SUM(D19:D22) -> 0 | E23: =SUM(E19:E22) -> 0 | F23: =SUM(F19:F22) -> 0 | G23: =SUM(G19:G22) -> 0 | H23: =SUM(H19:H22) -> 0 | I23: =SUM(I19:I22) -> 0 | J23: =SUM(D23:I23) -> 0
A24: Ⅲ その他費用（税抜/単位：円）
A25: 1 | B25: （自由に追加してください）
A26: その他費用 小計 | D26: =SUM(D25) -> 0 | E26: =SUM(E25) -> 0 | F26: =SUM(F25) -> 0 | G26: =SUM(G25) -> 0 | H26: =SUM(H25) -> 0 | I26: =SUM(I25) -> 0 | J26: =SUM(D26:I26) -> 0
A27: 合計（税抜） | D27: =SUM(D17,D23,D26) -> 0 | E27: =SUM(E17,E23,E26) -> 0 | F27: =SUM(F17,F23,F26) -> 0 | G27: =SUM(G17,G23,G26) -> 0 | H27: =SUM(H17,H23,H26) -> 0 | I27: =SUM(I17,I23,I26) -> 0 | J27: =SUM(D27:I27) -> 0
A28: 合計（税込） | D28: =D27*1.1 -> 0 | E28: =E27*1.1 -> 0 | F28: =F27*1.1 -> 0 | G28: =G27*1.1 -> 0 | H28: =H27*1.1 -> 0 | I28: =I27*1.1 -> 0 | J28: =SUM(D28:I28) -> 0
A29: Ⅳ 主な費用算定条件
